BEGIN:VCALENDAR
VERSION:2.0
PRODID:icalendar-ruby
CALSCALE:GREGORIAN
X-WR-TIMEZONE:Europe/Helsinki
BEGIN:VTIMEZONE
TZID:Europe/Helsinki
BEGIN:DAYLIGHT
DTSTART:20260329T040000
TZOFFSETFROM:+0200
TZOFFSETTO:+0300
RRULE:FREQ=YEARLY;BYDAY=-1SU;BYMONTH=3
TZNAME:EEST
END:DAYLIGHT
BEGIN:STANDARD
DTSTART:20261025T030000
TZOFFSETFROM:+0300
TZOFFSETTO:+0200
RRULE:FREQ=YEARLY;BYDAY=-1SU;BYMONTH=10
TZNAME:EET
END:STANDARD
END:VTIMEZONE
BEGIN:VEVENT
DTSTAMP:20260421T160451
UID:ols.myclub.fi-10494454
DTSTART;TZID=Europe/Helsinki:20260731T164500
DTEND;TZID=Europe/Helsinki:20260731T164500
DESCRIPTION:Urheilukoulun kesäkauden lajina on jalkapallo\, jossa on mahdo
 llisuus osallistua eri alueilla ( Itä\, Keskusta\, Etelä ja Pohjoinen ) 
 pidettävään Urheilukouluun. Alla aikataulut kevään ja kesän Urheiluk
 ouluille: Viikot 17 - 24 ( Pohjoinen tai Keskusta ) ja 31 - 38 ( Etelä ta
 i Itä ) \nUrheilukoululaisille maksuun sisältyy mm. pelipaita painatuksi
 neen ( muistakaa ilmoittaa pelipaidan koko 116 / 128 / 140 cm ja oma vapaa
 valintainen pelinumero lisätietoihin tai sähköpostitse mahdollisimman p
 ian )\, lisenssi ja vakuutus\, ohjatut harjoitukset ja koulutukset ohjaaji
 lle/apuohjaajille.\n Harjoituspaikat ja -ajat varmistuvat huhtikuun alkuun
  mennessä saadessamme käytettävissä olevat harjoitusvuorot. Urheilukou
 lun jälkeen on myös mahdollisuus jatkaa lajin parissa joko olemassa olev
 issa tai perustettavissa joukkueissamme.\n\nTervetuloa mukaan OLS Urheiluk
 ouluun!\n\nJanne Takkinen\nOLS Nappulatoiminnan koordinaattori\njanne.takk
 inen@ols.fi\n044-4916509\n\nhttps://ols.myclub.fi/flow/events/10494454
LOCATION:Hiukkavaaran tekonurmi\, Tahtimarssi 3\, 90670 Oulu
SEQUENCE:0
SUMMARY:Urheilukoulu 4-5 v. / Jalkapallo - Itä: Ilmoittautuminen urheiluko
 uluun kesä 2026 - Itä ( 2020-2022 synt. )
URL;VALUE=URI:https://ols.myclub.fi/flow/events/10494454
END:VEVENT
END:VCALENDAR
