BEGIN:VCALENDAR
VERSION:2.0
PRODID:icalendar-ruby
CALSCALE:GREGORIAN
X-WR-TIMEZONE:Europe/Helsinki
BEGIN:VTIMEZONE
TZID:Europe/Helsinki
BEGIN:DAYLIGHT
DTSTART:20260329T040000
TZOFFSETFROM:+0200
TZOFFSETTO:+0300
RRULE:FREQ=YEARLY;BYDAY=-1SU;BYMONTH=3
TZNAME:EEST
END:DAYLIGHT
BEGIN:STANDARD
DTSTART:20261025T030000
TZOFFSETFROM:+0300
TZOFFSETTO:+0200
RRULE:FREQ=YEARLY;BYDAY=-1SU;BYMONTH=10
TZNAME:EET
END:STANDARD
END:VTIMEZONE
BEGIN:VEVENT
DTSTAMP:20260421T201022
UID:ols.myclub.fi-10460290
DTSTART;TZID=Europe/Helsinki:20260601T090000
DTEND;TZID=Europe/Helsinki:20260602T120000
DESCRIPTION:OLS Salibandy Sporttileiri 4–6-vuotiaille \nOLS Salibandy Spo
 rttileiri on 4–6-vuotiaille lapsille suunnattu innostava ja liikunnallin
 en leiri\, jossa yhdistyvät salibandy\, monipuolinen liikkuminen\, leikit
  ja yhdessä tekeminen. Leirillä tutustutaan liikunnan perustaitoihin hau
 skalla ja ikätasoisella tavalla turvallisessa ja kannustavassa ympärist
 össä.\nLeirillä pelataan salibandyä\, mutta sen lisäksi tutustutaan m
 yös muihin liikuntamuotoihin ja -lajeihin ikätasoisella ja hauskalla tav
 alla. Tavoitteena on tarjota lapsille monipuolisia liikuntakokemuksia\, ke
 hittää perustaitoja ja ennen kaikkea innostaa liikkumaan.\nSporttileiri 
 on suunnattu ensisijaisesti 4–6-vuotiaille lapsille eli 2020–2022-synt
 yneille tytöille sekä pojille. \nLeiri sopii hyvin:  lapsille\, jotka pi
 tävät liikkumisesta ja leikeistä  salibandysta kiinnostuneille  uusille
  kokeilijoille  OLS:n toiminnassa mukana oleville tai toiminnasta kiinnost
 uneille perheille  \nSporttileirin kesto on 3 tuntia päivässä\, mikä o
 n 4–6-vuotiaille sopiva ja laadukas kokonaisuus.\n9.00–9.45 Ulkoliikun
 taa ja päivän aloitus 9.45–10.00 Juomatauko ja siirtymä 10.00–10.45
  Sporttirata ja salitoiminta 10.45–11.05 Välipala ja tauko 11.05–11.4
 5 Pelit\, leikit ja salibandy 11.45–12.00 Päivän päätös\nPäivän s
 isältö voi vaihdella sään\, ryhmän ja teemapäivien mukaan. Leirin to
 teutus \nLeirin kokonaisuudesta vastaavat OLS Salibandyn toiminnanjohtaja 
 Samuli Koivuniemi sekä valmennuspäällikkö Atte Back.\nLeirin arjessa o
 hjaajina toimivat Oulun Luistinseuran omat pelaajat\, jotka tuovat mukaan 
 innostavan\, turvallisen ja kannustavan ilmapiirin. Ohjaajat toimivat laps
 ille esimerkkeinä ja mahdollistavat positiiviset liikuntakokemukset jokai
 selle osallistujalle.\nPaikka: Hiukkavaaran monitoimitalo Ajankohta: 1-2.6
  (ma-ti) - jos ilmoittautumisia tulee iso määrä\, järjestämme toisen 
 leirin 4-5.6 (to-pe) Kellonaika: 9.00 - 12.00 Hinta: 75€ / kaksi päivä
 ä \nPaikkoja on rajoitetusti. Leiri vaatii toteutuakseen vähintään 20 
 osallistujaa.\nLisätiedot ja kyselyt:\nSamuli Koivuniemi / samuli.koivuni
 emi@ols.fi   \n\nhttps://ols.myclub.fi/flow/events/10460290
LOCATION:Hiukkavaaran monitoimitalo\, 
SEQUENCE:0
SUMMARY:Salibandy: Sporttileirit 4-6v
URL;VALUE=URI:https://ols.myclub.fi/flow/events/10460290
END:VEVENT
END:VCALENDAR
