BEGIN:VCALENDAR
VERSION:2.0
PRODID:icalendar-ruby
CALSCALE:GREGORIAN
X-WR-TIMEZONE:Europe/Helsinki
BEGIN:VTIMEZONE
TZID:Europe/Helsinki
BEGIN:DAYLIGHT
DTSTART:20260329T040000
TZOFFSETFROM:+0200
TZOFFSETTO:+0300
RRULE:FREQ=YEARLY;BYDAY=-1SU;BYMONTH=3
TZNAME:EEST
END:DAYLIGHT
BEGIN:STANDARD
DTSTART:20261025T030000
TZOFFSETFROM:+0300
TZOFFSETTO:+0200
RRULE:FREQ=YEARLY;BYDAY=-1SU;BYMONTH=10
TZNAME:EET
END:STANDARD
END:VTIMEZONE
BEGIN:VEVENT
DTSTAMP:20260425T155530
UID:ols.myclub.fi-10435467
DTSTART;TZID=Europe/Helsinki:20260608T090000
DTEND;TZID=Europe/Helsinki:20260612T150000
DESCRIPTION:Kesän 2026 Future Stars salibandyleiri järjestetään kesäku
 ussa ja leiri on jaettu kahteen osaan. Kesäkuun ensimmäisellä viikolla 
 (1.6.-5.6.2026\, ma-pe) leirin valtaavat 7-10v ja toisella viikolla (8.6.-
 12.2.2026\, ma-pe) vuoron saavat 11-15v. Leirille ovat tervetulleita kaikk
 i salibandystä innostuneet juniorit yli kaupunki- tai seurarajojen! PT11-
 15 ikäluokan leiripäivät ovat siis 8.6-12.6.2026.\nLeiri järjestetää
 n Hiukkavaaran monitoimitalon liikuntasalissa ja sen lähiympäristössä.
  Leirin vastuuvalmentajana toimii OLS salibandyn valmennuspäällikkö Att
 e Back\, jonka apuna valmennuksessa toimivat OLS salibandy F-liigajoukkuee
 n pelaajat.\nLeiripäivä sisältää yhteensä kolme tunnin lajiharjoitus
 ta\, jotka ovat kaikki etukäteen suunniteltuja sekä paljon muuta liikunt
 aa sekä ulkoaktiviteettia.\nLeirin hinnat: PT 11-15 ikäluokat 175€ (5 
 päivää). Leirille voi osallistua myös yksittäisiin päiviin\, tällö
 in hinta on 50€ / päivä. Leirin hinta sisältää valmennuksen lisäks
 i leiripaidan\, lounaan ja välipalan. \nLeirin osallistujat täytetään 
 ilmoittautumisjärjestyksessä ja jokaiselle ilmoittautuneelle leiripaikka
  varmistetaan ilmoittautumisen jälkeen. Leirimaksu tulee laskulla.\nIlmoi
 ttautuminen leirille hoidetaan MyClub:n kautta. \n\nhttps://ols.myclub.fi/
 flow/events/10435467
LOCATION:Hiukkavaaratalo \, Oulu\, Tahtimarssi 3\, 90670 Oulu
SEQUENCE:0
SUMMARY:Salibandy: Future Stars salibandyleiri PT 11-15 8-12.6.2026
URL;VALUE=URI:https://ols.myclub.fi/flow/events/10435467
END:VEVENT
END:VCALENDAR
