BEGIN:VCALENDAR
VERSION:2.0
PRODID:icalendar-ruby
CALSCALE:GREGORIAN
X-WR-TIMEZONE:Europe/Helsinki
BEGIN:VTIMEZONE
TZID:Europe/Helsinki
BEGIN:DAYLIGHT
DTSTART:20260329T040000
TZOFFSETFROM:+0200
TZOFFSETTO:+0300
RRULE:FREQ=YEARLY;BYDAY=-1SU;BYMONTH=3
TZNAME:EEST
END:DAYLIGHT
BEGIN:STANDARD
DTSTART:20261025T030000
TZOFFSETFROM:+0300
TZOFFSETTO:+0200
RRULE:FREQ=YEARLY;BYDAY=-1SU;BYMONTH=10
TZNAME:EET
END:STANDARD
END:VTIMEZONE
BEGIN:VEVENT
DTSTAMP:20260425T161001
UID:ols.myclub.fi-10435465
DTSTART;TZID=Europe/Helsinki:20260601T090000
DTEND;TZID=Europe/Helsinki:20260605T150000
DESCRIPTION:Kesän 2026 Future Stars salibandyleiri järjestetään kesäku
 ussa ja leiri on jaettu kahteen osaan. Kesäkuun ensimmäisellä viikolla 
 (1.6.-5.6.2026\, ma-pe) leirin valtaavat 7-10v ja toisella viikolla (8.6.-
 12.2.2026\, ma-pe) vuoron saavat 11-15v. Leirille ovat tervetulleita kaikk
 i salibandystä innostuneet juniorit yli kaupunki- tai seurarajojen! PT7-1
 0 ikäluokan leiripäivät ovat siis 1.6-5.6.2026.\nLeiri järjestetään 
 Hiukkavaaran monitoimitalon liikuntasalissa ja sen lähiympäristössä. L
 eirin vastuuvalmentajana toimii OLS salibandyn valmennuspäällikkö Atte 
 Back\, jonka apuna valmennuksessa toimivat OLS salibandy F-liigajoukkueen 
 pelaajat.\nLeiripäivä sisältää yhteensä kolme tunnin lajiharjoitusta
 \, jotka ovat kaikki etukäteen suunniteltuja sekä paljon muuta liikuntaa
  sekä ulkoaktiviteettia.\nLeirin hinnat: PT 7-10 ikäluokat 175€ (5 pä
 ivää). Leirille voi osallistua myös yksittäisiin päiviin\, tällöin 
 hinta on 50€ / päivä. Leirin hinta sisältää valmennuksen lisäksi l
 eiripaidan\, lounaan ja välipalan. \nLeirin osallistujat täytetään ilm
 oittautumisjärjestyksessä ja jokaiselle ilmoittautuneelle leiripaikka va
 rmistetaan ilmoittautumisen jälkeen. Leirimaksu tulee laskulla.\nIlmoitta
 utuminen leirille hoidetaan MyClub:n kautta. \n\nhttps://ols.myclub.fi/flo
 w/events/10435465
LOCATION:Hiukkavaaratalo \, Oulu\, Tahtimarssi 3\, 90670 Oulu
SEQUENCE:0
SUMMARY:Salibandy: Future Stars salibandyleiri PT 7-10 1-6.6.2026
URL;VALUE=URI:https://ols.myclub.fi/flow/events/10435465
END:VEVENT
END:VCALENDAR
