BEGIN:VCALENDAR
VERSION:2.0
PRODID:icalendar-ruby
CALSCALE:GREGORIAN
X-WR-TIMEZONE:Europe/Helsinki
BEGIN:VTIMEZONE
TZID:Europe/Helsinki
BEGIN:DAYLIGHT
DTSTART:20260329T040000
TZOFFSETFROM:+0200
TZOFFSETTO:+0300
RRULE:FREQ=YEARLY;BYDAY=-1SU;BYMONTH=3
TZNAME:EEST
END:DAYLIGHT
BEGIN:STANDARD
DTSTART:20261025T030000
TZOFFSETFROM:+0300
TZOFFSETTO:+0200
RRULE:FREQ=YEARLY;BYDAY=-1SU;BYMONTH=10
TZNAME:EET
END:STANDARD
END:VTIMEZONE
BEGIN:VEVENT
DTSTAMP:20260424T221022
UID:ols.myclub.fi-10307752
DTSTART;TZID=Europe/Helsinki:20260418T090000
DTEND;TZID=Europe/Helsinki:20260419T200000
DESCRIPTION:TURNAUSINFO\n\nHuom. Tarkista\, että olet kirjautuneena joukku
 eenne jäsenyydellä ( ei henkilökohtaisella ). Jos haluat ilmoittaa tois
 en peliryhmän joukkueestanne\, niin paina ilmoittautumissivulla alempana 
 olevasta "Ilmoita toinen jäsen" ja siirryt täyttämään toisen peliryhm
 änne nimi- ym. tietoja tai vaihdat toisen peliryhmänne aktiiviseksi ja t
 eet ilmoittautumisen myös toisen peliryhmänne nimissä. \nTurnausmaksu\n
 Ikäluokat U4 - U9 turnausmaksu on 80€ / joukkue \nOLS omat joukkueet os
 allistuvat turnaukseen maksutta.\nJokaisen tulee tehdä ilmoittautuminen k
 aikista joukkueista erikseen.\nIlmoittautumisen yhteydessä täyttäkää 
 tiedot seuraavasti:\nEtunimi = Joukkueen tunnus (esim. U9 keltainen VP) Su
 kunimi = Seuran nimi (esim. OLS) Syntymäaika = 1.1. ja joukkueen ikäluok
 ka Sähköposti = Joukkueen yhteyshenkilö\, joka vastaa laskuista\, ilmoi
 ttautumisesta sekä infojen vastaanotosta.\nKaikki joukkueen taustahenkil
 öt ja ohjaajat tulee ilmoittaa huoltajat -kohtaan.\nOttakaa käyttöönne
  myClub appi\, jonka kautta kaikki toimii helposti. https://help.myclub.fi
 /member/app\nKaikki turnaukseen osallistuvat pelaajat palkitaan mitalilla 
 oman joukkueen viimeisen pelin jälkeen.\nTervetuloa mukaan nauttimaan OLS
  Kaupunkisarjan kauden avausturnauksesta!  \nLisätietoja:  U4 - U9 sarjat
  Janne Takkinen janne.takkinen@ols.fi\n\nhttps://ols.myclub.fi/flow/events
 /10307752
LOCATION:Heinäpään urheilukeskus\, Tyrnävänkuja\, 90400 Oulu
SEQUENCE:0
SUMMARY:Rospuuttoturnaus: Rospuuttoturnaus U8 - joukkueet ( 2018 )
URL;VALUE=URI:https://ols.myclub.fi/flow/events/10307752
END:VEVENT
END:VCALENDAR
