BEGIN:VCALENDAR
VERSION:2.0
PRODID:icalendar-ruby
CALSCALE:GREGORIAN
X-WR-TIMEZONE:Europe/Helsinki
BEGIN:VTIMEZONE
TZID:Europe/Helsinki
BEGIN:DAYLIGHT
DTSTART:20260329T040000
TZOFFSETFROM:+0200
TZOFFSETTO:+0300
RRULE:FREQ=YEARLY;BYDAY=-1SU;BYMONTH=3
TZNAME:EEST
END:DAYLIGHT
BEGIN:STANDARD
DTSTART:20261025T030000
TZOFFSETFROM:+0300
TZOFFSETTO:+0200
RRULE:FREQ=YEARLY;BYDAY=-1SU;BYMONTH=10
TZNAME:EET
END:STANDARD
END:VTIMEZONE
BEGIN:VEVENT
DTSTAMP:20260424T220730
UID:ols.myclub.fi-10307451
DTSTART;TZID=Europe/Helsinki:20260418T090000
DTEND;TZID=Europe/Helsinki:20260419T200000
DESCRIPTION:TURNAUSINFO\n\nHuom. Mikäli et ole kirjautuneena joukkuetunnuk
 sellasi tai haluat ilmoittaa myös toisen peliryhmän\, paina ilmoittautum
 issivulla alempana olevasta "Ilmoita toinen jäsen" ja siirryt täyttämä
 än toisen peliryhmänne nimi- ym. tietoja.\n\nTurnausmaksu\nIkäluokat U4
  - U9 turnausmaksu on 80€ / joukkue \nOLS omat joukkueet osallistuvat tu
 rnaukseen maksutta.\nJokaisen tulee tehdä ilmoittautuminen kaikista joukk
 ueista erikseen.\nIlmoittautumisen yhteydessä täyttäkää tiedot seuraa
 vasti:\nEtunimi = Joukkueen tunnus (esim. U9 keltainen VP) Sukunimi = Seur
 an nimi (esim. OLS) Syntymäaika = 1.1. ja joukkueen ikäluokka Sähköpos
 ti = Joukkueen yhteyshenkilö\, joka vastaa laskuista\, ilmoittautumisesta
  sekä infojen vastaanotosta.\nKaikki joukkueen taustahenkilöt ja ohjaaja
 t tulee ilmoittaa huoltajat -kohtaan.\nOttakaa käyttöönne myClub appi\,
  jonka kautta kaikki toimii helposti. https://help.myclub.fi/member/app\nK
 aikki turnaukseen osallistuvat pelaajat palkitaan mitalilla oman joukkueen
  viimeisen pelin jälkeen.\nTervetuloa mukaan nauttimaan OLS Kaupunkisarja
 n kauden avausturnauksesta!  \nLisätietoja:  U4 - U9 sarjat Janne Takkine
 n janne.takkinen@ols.fi\n\nhttps://ols.myclub.fi/flow/events/10307451
LOCATION:Heinäpään urheilukeskus\, Tyrnävänkuja\, 90400 Oulu
SEQUENCE:0
SUMMARY:Rospuuttoturnaus: Rospuuttoturnaus U5 - joukkueet ( 2021 )
URL;VALUE=URI:https://ols.myclub.fi/flow/events/10307451
END:VEVENT
END:VCALENDAR
