BEGIN:VCALENDAR
VERSION:2.0
PRODID:icalendar-ruby
CALSCALE:GREGORIAN
X-WR-TIMEZONE:Europe/Helsinki
BEGIN:VTIMEZONE
TZID:Europe/Helsinki
BEGIN:DAYLIGHT
DTSTART:20260329T040000
TZOFFSETFROM:+0200
TZOFFSETTO:+0300
RRULE:FREQ=YEARLY;BYDAY=-1SU;BYMONTH=3
TZNAME:EEST
END:DAYLIGHT
BEGIN:STANDARD
DTSTART:20261025T030000
TZOFFSETFROM:+0300
TZOFFSETTO:+0200
RRULE:FREQ=YEARLY;BYDAY=-1SU;BYMONTH=10
TZNAME:EET
END:STANDARD
END:VTIMEZONE
BEGIN:VEVENT
DTSTAMP:20260424T223548
UID:ols.myclub.fi-10284238
DTSTART;TZID=Europe/Helsinki:20260315T110000
DTEND;TZID=Europe/Helsinki:20260315T110000
DESCRIPTION:Ilmoittautuminen kesän Perhefutis - kerhoon\, joka on suunnatt
 u 2-4 vuotiaille lapsille ja hänen huoltajalleen. Toiminta järjestetää
 n Hintan koulun liikuntasalissa sunnuntaisin klo 11.00 - 12.00 15.3 - 3.5 
 välisenä aikana kerran viikossa\n\nhttps://ols.myclub.fi/flow/events/102
 84238
LOCATION:Hintan Koulu\, Valjastie 19\, 90650 Oulu
SEQUENCE:0
SUMMARY:Perhefutis 2026 kevät II: OLS Perhefutis 2026 - kevät II
URL;VALUE=URI:https://ols.myclub.fi/flow/events/10284238
END:VEVENT
END:VCALENDAR
